BEGIN:VCALENDAR
VERSION:2.0
METHOD:PUBLISH
PRODID:-//hacksw/handcal//NONSGML v1.0//EN
BEGIN:VEVENT
DTSTAMP:20260420T162940Z
DTSTART;VALUE=DATE:20260717
DTEND;VALUE=DATE:20260720
UID:20260716T220000Z-20260719T215959Z-1218@www.bergfreunde-velden.de
SUMMARY:Campingausflug zum Monte Kaolino
DESCRIPTION:
X-ALT-DESC;FMTTYPE=text/html:
URL:https://www.bergfreunde-velden.de/events/campingausflug-zum-monte-
 kaolino/?lang=de
ATTACH:https://www.bergfreunde-velden.de/events/campingausflug-zum-mon
 te-kaolino/?lang=de
LOCATION:Monte Kaolino - Hirschau\, \,
END:VEVENT
END:VCALENDAR
