BEGIN:VCALENDAR
VERSION:2.0
METHOD:PUBLISH
PRODID:-//hacksw/handcal//NONSGML v1.0//EN
BEGIN:VEVENT
DTSTAMP:20260425T013938Z
DTSTART:20190905T180000Z
DTEND:20200806T210000Z
UID:20190905T180000Z-20200806T210000Z-266@www.bergfreunde-velden.de
SUMMARY:Stammtisch beim Foti
DESCRIPTION:Stammtisch der Bergfreunde Velden beim Foti\n\nGasthaus Sa
 ntorin in Velden
X-ALT-DESC;FMTTYPE=text/html:<p>Stammtisch der Bergfreunde Velden beim
  Foti</p>\n<p>Gasthaus Santorin in Velden</p>\n
URL:https://www.bergfreunde-velden.de/events/266/stammtisch-beim-foti/
 ?lang=de
ATTACH:https://www.bergfreunde-velden.de/events/266/stammtisch-beim-fo
 ti/?lang=de
LOCATION:Restaurant Santorin\, Marktplatz 34\, Velden
END:VEVENT
END:VCALENDAR
