BEGIN:VCALENDAR
VERSION:2.0
METHOD:PUBLISH
PRODID:-//hacksw/handcal//NONSGML v1.0//EN
BEGIN:VEVENT
DTSTAMP:20260424T203920Z
DTSTART:20191205T190000Z
DTEND:20201105T220000Z
UID:20191205T190000Z-20201105T220000Z-269@www.bergfreunde-velden.de
SUMMARY:Stammtisch beim Foti
DESCRIPTION:Stammtisch der Bergfreunde Velden beim Foti\n\nGasthaus Sa
 ntorin in Velden
X-ALT-DESC;FMTTYPE=text/html:<p>Stammtisch der Bergfreunde Velden beim
  Foti</p>\n<p>Gasthaus Santorin in Velden</p>\n
URL:https://www.bergfreunde-velden.de/events/269/stammtisch-beim-foti/
 ?lang=de
ATTACH:https://www.bergfreunde-velden.de/events/269/stammtisch-beim-fo
 ti/?lang=de
LOCATION:Restaurant Santorin\, Marktplatz 34\, Velden
END:VEVENT
END:VCALENDAR
