BEGIN:VCALENDAR
VERSION:2.0
METHOD:PUBLISH
PRODID:-//hacksw/handcal//NONSGML v1.0//EN
BEGIN:VEVENT
DTSTAMP:20260423T192506Z
DTSTART;VALUE=DATE:20220219
DTEND;VALUE=DATE:20220220
UID:20220218T230000Z-20220219T225959Z-550@www.bergfreunde-velden.de
SUMMARY:Haarbacher Slalom Cup
DESCRIPTION:Ausrichter: TSV Haarbach\n \n\n \n\n 
X-ALT-DESC;FMTTYPE=text/html:<h2 style=text-align: center\;>Ausrichter
 : TSV Haarbach</h2>\n<p>&nbsp\;</p>\n<p>&nbsp\;</p>\n<p>&nbsp\;</p>\n
URL:https://www.bergfreunde-velden.de/events/slalom-cup-2/?lang=de
ATTACH:https://www.bergfreunde-velden.de/events/slalom-cup-2/?lang=de
END:VEVENT
END:VCALENDAR
