BEGIN:VCALENDAR
VERSION:2.0
METHOD:PUBLISH
PRODID:-//hacksw/handcal//NONSGML v1.0//EN
BEGIN:VEVENT
DTSTAMP:20260423T174619Z
DTSTART;VALUE=DATE:20220312
DTEND;VALUE=DATE:20220313
UID:20220311T230000Z-20220312T225959Z-551@www.bergfreunde-velden.de
SUMMARY:Offene Vilsbiburger Stadtmeisterschaften
DESCRIPTION:Ausrichter: SC Vilsiburg
X-ALT-DESC;FMTTYPE=text/html:<h2 style=text-align: center\;>Ausrichter
 : SC Vilsiburg</h2>\n
URL:https://www.bergfreunde-velden.de/events/baecker-bachmeier-cup-2/?
 lang=de
ATTACH:https://www.bergfreunde-velden.de/events/baecker-bachmeier-cup-
 2/?lang=de
LOCATION:Radstadt (Altenmarkt)\, Unterbergstr. 15\, Radstadt
END:VEVENT
END:VCALENDAR
