BEGIN:VCALENDAR
VERSION:2.0
METHOD:PUBLISH
PRODID:-//hacksw/handcal//NONSGML v1.0//EN
BEGIN:VEVENT
DTSTAMP:20260423T192142Z
DTSTART:20220211T150000Z
DTEND:20220211T180000Z
UID:20220211T150000Z-20220211T180000Z-552@www.bergfreunde-velden.de
SUMMARY:Slalom Training
DESCRIPTION:Infos uns Anmeldung bei Mike Schneider\n0151/43193341
X-ALT-DESC;FMTTYPE=text/html:<h3 style=text-align: center\;>Infos uns 
 Anmeldung bei Mike Schneider</h3>\n<h3 style=text-align: center\;>0151
 /43193341</h3>\n
URL:https://www.bergfreunde-velden.de/events/slalom-training/?lang=de
ATTACH:https://www.bergfreunde-velden.de/events/slalom-training/?lang=
 de
LOCATION:Greising\, Greising 68\, Deggendorf
END:VEVENT
END:VCALENDAR
