BEGIN:VCALENDAR
VERSION:2.0
METHOD:PUBLISH
PRODID:-//hacksw/handcal//NONSGML v1.0//EN
BEGIN:VEVENT
DTSTAMP:20260423T174558Z
DTSTART;VALUE=DATE:20220319
DTEND;VALUE=DATE:20220320
UID:20220318T230000Z-20220319T225959Z-565@www.bergfreunde-velden.de
SUMMARY:Ski & Fun 2022
DESCRIPTION:zu den Details und Anmeldung
X-ALT-DESC;FMTTYPE=text/html:<style type=text/css data-type=the7_short
 codes-inline-css>#default-btn-ed166f14264c670f2ce05ff89b5b2452.ico-rig
 ht-side > i {\n  margin-right: 0px\;\n  margin-left: 8px\;\n}\n#defaul
 t-btn-ed166f14264c670f2ce05ff89b5b2452 > i {\n  margin-right: 8px\;\n}
 </style><a href=https://www.bergfreunde-velden.de/events/ski-fun-2022/
  class=default-btn-shortcode dt-btn dt-btn-m fadeIn animate-element an
 imation-builder link-hover-off  id=default-btn-ed166f14264c670f2ce05ff
 89b5b2452><i class=fa fa-chevron-circle-right></i><span>zu den Details
  und Anmeldung</span></a><br />\n
URL:https://www.bergfreunde-velden.de/events/ski-fun-2022-tag2/?lang=d
 e
ATTACH:https://www.bergfreunde-velden.de/events/ski-fun-2022-tag2/?lan
 g=de
LOCATION:Almenwelt Lofer\, Lofer 275\, Lofer
END:VEVENT
END:VCALENDAR
