BEGIN:VCALENDAR
VERSION:2.0
METHOD:PUBLISH
PRODID:-//hacksw/handcal//NONSGML v1.0//EN
BEGIN:VEVENT
DTSTAMP:20260423T160944Z
DTSTART:20220414T170000Z
DTEND:20220414T200000Z
UID:20220414T170000Z-20220414T200000Z-590@www.bergfreunde-velden.de
SUMMARY:Jahreshauptversammlung der Bergfreunde im Anschluss an die Mai
 andach
DESCRIPTION:
X-ALT-DESC;FMTTYPE=text/html:
URL:https://www.bergfreunde-velden.de/events/jahreshauptversammlung-de
 r-bergfreunde-im-anschluss-an-die-maiandach/?lang=de
ATTACH:https://www.bergfreunde-velden.de/events/jahreshauptversammlung
 -der-bergfreunde-im-anschluss-an-die-maiandach/?lang=de
LOCATION:TSV Velden Sportheim\, Viehweide 33\, Velden
END:VEVENT
END:VCALENDAR
