BEGIN:VCALENDAR
VERSION:2.0
METHOD:PUBLISH
PRODID:-//hacksw/handcal//NONSGML v1.0//EN
BEGIN:VEVENT
DTSTAMP:20260423T131608Z
DTSTART:20220611T134500Z
DTEND:20220611T143000Z
UID:20220611T134500Z-20220611T143000Z-638@www.bergfreunde-velden.de
SUMMARY:Volksfestauszug  -  Treffpunkt Marktplatz Velden
DESCRIPTION:
X-ALT-DESC;FMTTYPE=text/html:
URL:https://www.bergfreunde-velden.de/events/volksfestauszug-treffpunk
 t-marktplatz-velden/?lang=de
ATTACH:https://www.bergfreunde-velden.de/events/volksfestauszug-treffp
 unkt-marktplatz-velden/?lang=de
LOCATION:Velden Markt\, \, Velden
END:VEVENT
END:VCALENDAR
