BEGIN:VCALENDAR
VERSION:2.0
METHOD:PUBLISH
PRODID:-//hacksw/handcal//NONSGML v1.0//EN
BEGIN:VEVENT
DTSTAMP:20260423T130631Z
DTSTART:20220614T150000Z
DTEND:20220614T200000Z
UID:20220614T150000Z-20220614T200000Z-639@www.bergfreunde-velden.de
SUMMARY:Volksfestbesuch - Tag der Vereine
DESCRIPTION:
X-ALT-DESC;FMTTYPE=text/html:
URL:https://www.bergfreunde-velden.de/events/volksfestbesuch-tag-der-v
 ereine/?lang=de
ATTACH:https://www.bergfreunde-velden.de/events/volksfestbesuch-tag-de
 r-vereine/?lang=de
END:VEVENT
END:VCALENDAR
