BEGIN:VCALENDAR
VERSION:2.0
METHOD:PUBLISH
PRODID:-//hacksw/handcal//NONSGML v1.0//EN
BEGIN:VEVENT
DTSTAMP:20260423T125208Z
DTSTART:20220623T220000Z
DTEND:20220624T215900Z
UID:20220623T220000Z-20220624T215900Z-640@www.bergfreunde-velden.de
SUMMARY:ABGESAGT - Generalversammlung TSV Velden
DESCRIPTION:
X-ALT-DESC;FMTTYPE=text/html:
URL:https://www.bergfreunde-velden.de/events/generalversammlung-tsv-ve
 lden/?lang=de
ATTACH:https://www.bergfreunde-velden.de/events/generalversammlung-tsv
 -velden/?lang=de
LOCATION:TSV Velden Sportheim\, Viehweide 33\, Velden
END:VEVENT
END:VCALENDAR
