BEGIN:VCALENDAR
VERSION:2.0
METHOD:PUBLISH
PRODID:-//hacksw/handcal//NONSGML v1.0//EN
BEGIN:VEVENT
DTSTAMP:20260423T112743Z
DTSTART;VALUE=DATE:20220722
DTEND;VALUE=DATE:20220723
UID:20220721T220000Z-20220722T215959Z-642@www.bergfreunde-velden.de
SUMMARY:Unta-da-Woch Wanderung
DESCRIPTION:
X-ALT-DESC;FMTTYPE=text/html:
URL:https://www.bergfreunde-velden.de/events/unta-da-woch-wanderung/?l
 ang=de
ATTACH:https://www.bergfreunde-velden.de/events/unta-da-woch-wanderung
 /?lang=de
END:VEVENT
END:VCALENDAR
