BEGIN:VCALENDAR
VERSION:2.0
METHOD:PUBLISH
PRODID:-//hacksw/handcal//NONSGML v1.0//EN
BEGIN:VEVENT
DTSTAMP:20260422T082622Z
DTSTART;VALUE=DATE:20241207
DTEND;VALUE=DATE:20241208
UID:20241206T230000Z-20241207T225959Z-900@www.bergfreunde-velden.de
SUMMARY:Skikurs 2024 in Lofer
DESCRIPTION:
X-ALT-DESC;FMTTYPE=text/html:
URL:https://www.bergfreunde-velden.de/events/skikurs-2024-in-lofer/?la
 ng=de
ATTACH:https://www.bergfreunde-velden.de/events/skikurs-2024-in-lofer/
 ?lang=de
LOCATION:Almenwelt Lofer\, Lofer 275\, Lofer
END:VEVENT
END:VCALENDAR
