BEGIN:VCALENDAR
VERSION:2.0
METHOD:PUBLISH
PRODID:-//hacksw/handcal//NONSGML v1.0//EN
BEGIN:VEVENT
DTSTAMP:20260422T092326Z
DTSTART;VALUE=DATE:20241215
DTEND;VALUE=DATE:20241216
UID:20241214T230000Z-20241215T225959Z-901@www.bergfreunde-velden.de
SUMMARY:Skikurs 2024 in Lofer
DESCRIPTION:
X-ALT-DESC;FMTTYPE=text/html:
URL:https://www.bergfreunde-velden.de/events/skikurs-2024-in-lofer-2/?
 lang=de
ATTACH:https://www.bergfreunde-velden.de/events/skikurs-2024-in-lofer-
 2/?lang=de
LOCATION:Almenwelt Lofer\, Lofer 275\, Lofer
END:VEVENT
END:VCALENDAR
